BEGIN:VCALENDAR
PRODID:-//spiritec//spiritec media library//EN
VERSION:2.0
METHOD:PUBLISH
BEGIN:VEVENT
UID:ical-2027-03-13-2113
DTSTART:20270313T183000Z
DTSTAMP:20260423T193353Z
LOCATION:Staatsoperette Saal
SUMMARY:Anything Goes
DESCRIPTION:
CREATED:20260423T193353Z
DTEND:20270313T225900Z
END:VEVENT
END:VCALENDAR
