BEGIN:VCALENDAR
PRODID:-//spiritec//spiritec media library//EN
VERSION:2.0
METHOD:PUBLISH
BEGIN:VEVENT
UID:ical-2027-02-26-2112
DTSTART:20270226T183000Z
DTSTAMP:20260423T193643Z
LOCATION:Staatsoperette Saal
SUMMARY:Anything Goes
DESCRIPTION:
CREATED:20260423T193643Z
DTEND:20270226T225900Z
END:VEVENT
END:VCALENDAR
