BEGIN:VCALENDAR
PRODID:-//spiritec//spiritec media library//EN
VERSION:2.0
METHOD:PUBLISH
BEGIN:VEVENT
UID:ical-2027-01-10-2107
DTSTART:20270110T140000Z
DTSTAMP:20260423T193413Z
LOCATION:Staatsoperette Saal
SUMMARY:Alice im Wunderland
DESCRIPTION:
CREATED:20260423T193413Z
DTEND:20270110T161500Z
END:VEVENT
END:VCALENDAR
