BEGIN:VCALENDAR
PRODID:-//spiritec//spiritec media library//EN
VERSION:2.0
METHOD:PUBLISH
BEGIN:VEVENT
UID:ical-2027-01-09-2106
DTSTART:20270109T170000Z
DTSTAMP:20260423T193500Z
LOCATION:Staatsoperette Saal
SUMMARY:Alice im Wunderland
DESCRIPTION:
CREATED:20260423T193500Z
DTEND:20270109T191500Z
END:VEVENT
END:VCALENDAR
