BEGIN:VCALENDAR
PRODID:-//spiritec//spiritec media library//EN
VERSION:2.0
METHOD:PUBLISH
BEGIN:VEVENT
UID:ical-2026-12-13-2101
DTSTART:20261213T140000Z
DTSTAMP:20260423T193510Z
LOCATION:Staatsoperette Saal
SUMMARY:Alice im Wunderland
DESCRIPTION:
CREATED:20260423T193510Z
DTEND:20261213T161500Z
END:VEVENT
END:VCALENDAR
