BEGIN:VCALENDAR
PRODID:-//spiritec//spiritec media library//EN
VERSION:2.0
METHOD:PUBLISH
BEGIN:VEVENT
UID:ical-2026-12-12-2100
DTSTART:20261212T170000Z
DTSTAMP:20260423T193708Z
LOCATION:Staatsoperette Saal
SUMMARY:Alice im Wunderland
DESCRIPTION:
CREATED:20260423T193708Z
DTEND:20261212T191500Z
END:VEVENT
END:VCALENDAR
