BEGIN:VCALENDAR
PRODID:-//spiritec//spiritec media library//EN
VERSION:2.0
METHOD:PUBLISH
BEGIN:VEVENT
UID:ical-2026-11-29-2097
DTSTART:20261129T140000Z
DTSTAMP:20260423T193500Z
LOCATION:Staatsoperette Saal
SUMMARY:Alice im Wunderland
DESCRIPTION:
CREATED:20260423T193500Z
DTEND:20261129T161500Z
END:VEVENT
END:VCALENDAR
