BEGIN:VCALENDAR
PRODID:-//spiritec//spiritec media library//EN
VERSION:2.0
METHOD:PUBLISH
BEGIN:VEVENT
UID:ical-2027-04-23-2095
DTSTART:20270423T173000Z
DTSTAMP:20260423T004053Z
LOCATION:Staatsoperette Saal
SUMMARY:My Fair Lady
DESCRIPTION:
CREATED:20260423T004053Z
DTEND:20270423T204000Z
END:VEVENT
END:VCALENDAR
