BEGIN:VCALENDAR
PRODID:-//spiritec//spiritec media library//EN
VERSION:2.0
METHOD:PUBLISH
BEGIN:VEVENT
UID:ical-2027-04-22-2094
DTSTART:20270422T173000Z
DTSTAMP:20260423T004114Z
LOCATION:Staatsoperette Saal
SUMMARY:My Fair Lady
DESCRIPTION:
CREATED:20260423T004114Z
DTEND:20270422T204000Z
END:VEVENT
END:VCALENDAR
