BEGIN:VCALENDAR
PRODID:-//spiritec//spiritec media library//EN
VERSION:2.0
METHOD:PUBLISH
BEGIN:VEVENT
UID:ical-2027-03-31-2093
DTSTART:20270331T173000Z
DTSTAMP:20260423T003216Z
LOCATION:Staatsoperette Saal
SUMMARY:My Fair Lady
DESCRIPTION:
CREATED:20260423T003216Z
DTEND:20270331T204000Z
END:VEVENT
END:VCALENDAR
