BEGIN:VCALENDAR
PRODID:-//spiritec//spiritec media library//EN
VERSION:2.0
METHOD:PUBLISH
BEGIN:VEVENT
UID:ical-2027-03-20-2092
DTSTART:20270320T183000Z
DTSTAMP:20260423T003115Z
LOCATION:Staatsoperette Saal
SUMMARY:My Fair Lady
DESCRIPTION:
CREATED:20260423T003115Z
DTEND:20270320T214000Z
END:VEVENT
END:VCALENDAR
