BEGIN:VCALENDAR
PRODID:-//spiritec//spiritec media library//EN
VERSION:2.0
METHOD:PUBLISH
BEGIN:VEVENT
UID:ical-2027-03-19-2091
DTSTART:20270319T183000Z
DTSTAMP:20260423T003014Z
LOCATION:Staatsoperette Saal
SUMMARY:My Fair Lady
DESCRIPTION:
CREATED:20260423T003014Z
DTEND:20270319T214000Z
END:VEVENT
END:VCALENDAR
