BEGIN:VCALENDAR
PRODID:-//spiritec//spiritec media library//EN
VERSION:2.0
METHOD:PUBLISH
BEGIN:VEVENT
UID:ical-2027-06-11-2090
DTSTART:20270611T173000Z
DTSTAMP:20260423T003039Z
LOCATION:Staatsoperette Saal
SUMMARY:Die Fledermaus
DESCRIPTION:
CREATED:20260423T003039Z
DTEND:20270611T201500Z
END:VEVENT
END:VCALENDAR
