BEGIN:VCALENDAR
PRODID:-//spiritec//spiritec media library//EN
VERSION:2.0
METHOD:PUBLISH
BEGIN:VEVENT
UID:ical-2027-06-10-2089
DTSTART:20270610T173000Z
DTSTAMP:20260423T003013Z
LOCATION:Staatsoperette Saal
SUMMARY:Die Fledermaus
DESCRIPTION:
CREATED:20260423T003013Z
DTEND:20270610T201500Z
END:VEVENT
END:VCALENDAR
