BEGIN:VCALENDAR
PRODID:-//spiritec//spiritec media library//EN
VERSION:2.0
METHOD:PUBLISH
BEGIN:VEVENT
UID:ical-2027-04-21-2088
DTSTART:20270421T173000Z
DTSTAMP:20260423T003224Z
LOCATION:Staatsoperette Saal
SUMMARY:Die Fledermaus
DESCRIPTION:
CREATED:20260423T003224Z
DTEND:20270421T201500Z
END:VEVENT
END:VCALENDAR
