BEGIN:VCALENDAR
PRODID:-//spiritec//spiritec media library//EN
VERSION:2.0
METHOD:PUBLISH
BEGIN:VEVENT
UID:ical-2027-04-11-2086
DTSTART:20270411T130000Z
DTSTAMP:20260423T003115Z
LOCATION:Staatsoperette Saal
SUMMARY:Die Fledermaus
DESCRIPTION:
CREATED:20260423T003115Z
DTEND:20270411T154500Z
END:VEVENT
END:VCALENDAR
