BEGIN:VCALENDAR
PRODID:-//spiritec//spiritec media library//EN
VERSION:2.0
METHOD:PUBLISH
BEGIN:VEVENT
UID:ical-2027-03-11-2084
DTSTART:20270311T183000Z
DTSTAMP:20260423T003216Z
LOCATION:Staatsoperette Saal
SUMMARY:Die Fledermaus
DESCRIPTION:
CREATED:20260423T003216Z
DTEND:20270311T211500Z
END:VEVENT
END:VCALENDAR
