BEGIN:VCALENDAR
PRODID:-//spiritec//spiritec media library//EN
VERSION:2.0
METHOD:PUBLISH
BEGIN:VEVENT
UID:ical-2027-03-10-2083
DTSTART:20270310T183000Z
DTSTAMP:20260423T003039Z
LOCATION:Staatsoperette Saal
SUMMARY:Die Fledermaus
DESCRIPTION:
CREATED:20260423T003039Z
DTEND:20270310T211500Z
END:VEVENT
END:VCALENDAR
