BEGIN:VCALENDAR
PRODID:-//spiritec//spiritec media library//EN
VERSION:2.0
METHOD:PUBLISH
BEGIN:VEVENT
UID:ical-2027-02-21-2082
DTSTART:20270221T140000Z
DTSTAMP:20260423T003216Z
LOCATION:Staatsoperette Saal
SUMMARY:Die Fledermaus
DESCRIPTION:
CREATED:20260423T003216Z
DTEND:20270221T164500Z
END:VEVENT
END:VCALENDAR
