BEGIN:VCALENDAR
PRODID:-//spiritec//spiritec media library//EN
VERSION:2.0
METHOD:PUBLISH
BEGIN:VEVENT
UID:ical-2027-02-20-2081
DTSTART:20270220T183000Z
DTSTAMP:20260423T003224Z
LOCATION:Staatsoperette Saal
SUMMARY:Die Fledermaus
DESCRIPTION:
CREATED:20260423T003224Z
DTEND:20270220T211500Z
END:VEVENT
END:VCALENDAR
