BEGIN:VCALENDAR
PRODID:-//spiritec//spiritec media library//EN
VERSION:2.0
METHOD:PUBLISH
BEGIN:VEVENT
UID:ical-2027-05-30-2080
DTSTART:20270530T130000Z
DTSTAMP:20260423T004017Z
LOCATION:Staatsoperette Saal
SUMMARY:Evita
DESCRIPTION:
CREATED:20260423T004017Z
DTEND:20270530T153000Z
END:VEVENT
END:VCALENDAR
