BEGIN:VCALENDAR
PRODID:-//spiritec//spiritec media library//EN
VERSION:2.0
METHOD:PUBLISH
BEGIN:VEVENT
UID:ical-2027-05-29-2079
DTSTART:20270529T173000Z
DTSTAMP:20260423T004017Z
LOCATION:Staatsoperette Saal
SUMMARY:Evita
DESCRIPTION:
CREATED:20260423T004017Z
DTEND:20270529T200000Z
END:VEVENT
END:VCALENDAR
