BEGIN:VCALENDAR
PRODID:-//spiritec//spiritec media library//EN
VERSION:2.0
METHOD:PUBLISH
BEGIN:VEVENT
UID:ical-2027-04-07-2078
DTSTART:20270407T173000Z
DTSTAMP:20260423T004053Z
LOCATION:Staatsoperette Saal
SUMMARY:Evita
DESCRIPTION:
CREATED:20260423T004053Z
DTEND:20270407T200000Z
END:VEVENT
END:VCALENDAR
