BEGIN:VCALENDAR
PRODID:-//spiritec//spiritec media library//EN
VERSION:2.0
METHOD:PUBLISH
BEGIN:VEVENT
UID:ical-2027-04-06-2077
DTSTART:20270406T173000Z
DTSTAMP:20260423T004113Z
LOCATION:Staatsoperette Saal
SUMMARY:Evita
DESCRIPTION:
CREATED:20260423T004113Z
DTEND:20270406T200000Z
END:VEVENT
END:VCALENDAR
