BEGIN:VCALENDAR
PRODID:-//spiritec//spiritec media library//EN
VERSION:2.0
METHOD:PUBLISH
BEGIN:VEVENT
UID:ical-2027-01-17-2076
DTSTART:20270117T140000Z
DTSTAMP:20260423T003013Z
LOCATION:Staatsoperette Saal
SUMMARY:Evita
DESCRIPTION:
CREATED:20260423T003013Z
DTEND:20270117T163000Z
END:VEVENT
END:VCALENDAR
