BEGIN:VCALENDAR
PRODID:-//spiritec//spiritec media library//EN
VERSION:2.0
METHOD:PUBLISH
BEGIN:VEVENT
UID:ical-2027-01-16-2075
DTSTART:20270116T183000Z
DTSTAMP:20260423T003040Z
LOCATION:Staatsoperette Saal
SUMMARY:Evita
DESCRIPTION:
CREATED:20260423T003040Z
DTEND:20270116T210000Z
END:VEVENT
END:VCALENDAR
