BEGIN:VCALENDAR
PRODID:-//spiritec//spiritec media library//EN
VERSION:2.0
METHOD:PUBLISH
BEGIN:VEVENT
UID:ical-2026-12-16-2074
DTSTART:20261216T183000Z
DTSTAMP:20260423T003115Z
LOCATION:Staatsoperette Saal
SUMMARY:Evita
DESCRIPTION:
CREATED:20260423T003115Z
DTEND:20261216T210000Z
END:VEVENT
END:VCALENDAR
