BEGIN:VCALENDAR
PRODID:-//spiritec//spiritec media library//EN
VERSION:2.0
METHOD:PUBLISH
BEGIN:VEVENT
UID:ical-2026-12-15-2073
DTSTART:20261215T183000Z
DTSTAMP:20260423T003224Z
LOCATION:Staatsoperette Saal
SUMMARY:Evita
DESCRIPTION:
CREATED:20260423T003224Z
DTEND:20261215T210000Z
END:VEVENT
END:VCALENDAR
