BEGIN:VCALENDAR
PRODID:-//spiritec//spiritec media library//EN
VERSION:2.0
METHOD:PUBLISH
BEGIN:VEVENT
UID:ical-2026-12-08-2071
DTSTART:20261208T183000Z
DTSTAMP:20260423T003013Z
LOCATION:Staatsoperette Saal
SUMMARY:Evita
DESCRIPTION:
CREATED:20260423T003013Z
DTEND:20261208T210000Z
END:VEVENT
END:VCALENDAR
