BEGIN:VCALENDAR
PRODID:-//spiritec//spiritec media library//EN
VERSION:2.0
METHOD:PUBLISH
BEGIN:VEVENT
UID:ical-2026-12-04-2070
DTSTART:20261204T183000Z
DTSTAMP:20260423T003225Z
LOCATION:Staatsoperette Saal
SUMMARY:Evita
DESCRIPTION:
CREATED:20260423T003225Z
DTEND:20261204T210000Z
END:VEVENT
END:VCALENDAR
