BEGIN:VCALENDAR
PRODID:-//spiritec//spiritec media library//EN
VERSION:2.0
METHOD:PUBLISH
BEGIN:VEVENT
UID:ical-2026-10-25-2069
DTSTART:20261025T140000Z
DTSTAMP:20260423T021301Z
LOCATION:Staatsoperette Saal
SUMMARY:Evita
DESCRIPTION:
CREATED:20260423T021301Z
DTEND:20261025T163000Z
END:VEVENT
END:VCALENDAR
