BEGIN:VCALENDAR
PRODID:-//spiritec//spiritec media library//EN
VERSION:2.0
METHOD:PUBLISH
BEGIN:VEVENT
UID:ical-2026-10-24-2068
DTSTART:20261024T173000Z
DTSTAMP:20260423T021300Z
LOCATION:Staatsoperette Saal
SUMMARY:Evita
DESCRIPTION:
CREATED:20260423T021300Z
DTEND:20261024T200000Z
END:VEVENT
END:VCALENDAR
