BEGIN:VCALENDAR
PRODID:-//spiritec//spiritec media library//EN
VERSION:2.0
METHOD:PUBLISH
BEGIN:VEVENT
UID:ical-2026-10-11-2067
DTSTART:20261011T130000Z
DTSTAMP:20260423T021300Z
LOCATION:Staatsoperette Saal
SUMMARY:Evita
DESCRIPTION:
CREATED:20260423T021300Z
DTEND:20261011T153000Z
END:VEVENT
END:VCALENDAR
