BEGIN:VCALENDAR
PRODID:-//spiritec//spiritec media library//EN
VERSION:2.0
METHOD:PUBLISH
BEGIN:VEVENT
UID:ical-2026-10-10-2066
DTSTART:20261010T173000Z
DTSTAMP:20260423T021347Z
LOCATION:Staatsoperette Saal
SUMMARY:Evita
DESCRIPTION:
CREATED:20260423T021347Z
DTEND:20261010T200000Z
END:VEVENT
END:VCALENDAR
