BEGIN:VCALENDAR
PRODID:-//spiritec//spiritec media library//EN
VERSION:2.0
METHOD:PUBLISH
BEGIN:VEVENT
UID:ical-2026-10-02-2304
DTSTART:20261002T173000Z
DTSTAMP:20260423T172117Z
LOCATION:Staatsoperette Saal
SUMMARY:ich, eurydike
DESCRIPTION:
CREATED:20260423T172117Z
DTEND:20261002T184500Z
END:VEVENT
END:VCALENDAR
