BEGIN:VCALENDAR
PRODID:-//spiritec//spiritec media library//EN
VERSION:2.0
METHOD:PUBLISH
BEGIN:VEVENT
UID:ical-2026-09-20-2303
DTSTART:20260920T173000Z
DTSTAMP:20260423T172116Z
LOCATION:Foyer
SUMMARY:ich, eurydike
DESCRIPTION:
CREATED:20260423T172116Z
DTEND:20260920T215900Z
END:VEVENT
END:VCALENDAR
