BEGIN:VCALENDAR
PRODID:-//spiritec//spiritec media library//EN
VERSION:2.0
METHOD:PUBLISH
BEGIN:VEVENT
UID:ical-2026-09-19-2302
DTSTART:20260919T163000Z
DTSTAMP:20260423T171958Z
LOCATION:Staatsoperette Saal
SUMMARY:ich, eurydike
DESCRIPTION:
CREATED:20260423T171958Z
DTEND:20260919T174500Z
END:VEVENT
END:VCALENDAR
