BEGIN:VCALENDAR
PRODID:-//spiritec//spiritec media library//EN
VERSION:2.0
METHOD:PUBLISH
BEGIN:VEVENT
UID:ical-2027-02-06-2300
DTSTART:20270206T213000Z
DTSTAMP:20260423T172200Z
LOCATION:Foyer
SUMMARY:Anything Goes
DESCRIPTION:
CREATED:20260423T172200Z
DTEND:20270206T225900Z
END:VEVENT
END:VCALENDAR
