BEGIN:VCALENDAR
PRODID:-//spiritec//spiritec media library//EN
VERSION:2.0
METHOD:PUBLISH
BEGIN:VEVENT
UID:ical-2027-01-21-2279
DTSTART:20270121T190000Z
DTSTAMP:20260425T175147Z
LOCATION:Großer Saal Hellerau
SUMMARY:alfred hitchocks psycho
DESCRIPTION:
CREATED:20260425T175147Z
DTEND:20270121T225900Z
END:VEVENT
END:VCALENDAR
