BEGIN:VCALENDAR
PRODID:-//spiritec//spiritec media library//EN
VERSION:2.0
METHOD:PUBLISH
BEGIN:VEVENT
UID:ical-2027-01-08-2254
DTSTART:20270108T183000Z
DTSTAMP:20260423T203218Z
LOCATION:Staatsoperette Saal
SUMMARY:poesie der gegensätze
DESCRIPTION:
CREATED:20260423T203218Z
DTEND:20270108T225900Z
END:VEVENT
END:VCALENDAR
