BEGIN:VCALENDAR
PRODID:-//spiritec//spiritec media library//EN
VERSION:2.0
METHOD:PUBLISH
BEGIN:VEVENT
UID:ical-2027-01-07-2253
DTSTART:20270107T183000Z
DTSTAMP:20260423T202530Z
LOCATION:Staatsoperette Saal
SUMMARY:poesie der gegensätze
DESCRIPTION:
CREATED:20260423T202530Z
DTEND:20270107T225900Z
END:VEVENT
END:VCALENDAR
