BEGIN:VCALENDAR
PRODID:-//spiritec//spiritec media library//EN
VERSION:2.0
METHOD:PUBLISH
BEGIN:VEVENT
UID:ical-2027-01-03-2250
DTSTART:20270103T140000Z
DTSTAMP:20260423T203004Z
LOCATION:Staatsoperette Saal
SUMMARY:poesie der gegensätze
DESCRIPTION:
CREATED:20260423T203004Z
DTEND:20270103T225900Z
END:VEVENT
END:VCALENDAR
