BEGIN:VCALENDAR
PRODID:-//spiritec//spiritec media library//EN
VERSION:2.0
METHOD:PUBLISH
BEGIN:VEVENT
UID:ical-2027-01-02-2249
DTSTART:20270102T183000Z
DTSTAMP:20260423T202453Z
LOCATION:Staatsoperette Saal
SUMMARY:poesie der gegensätze
DESCRIPTION:
CREATED:20260423T202453Z
DTEND:20270102T225900Z
END:VEVENT
END:VCALENDAR
