BEGIN:VCALENDAR
PRODID:-//spiritec//spiritec media library//EN
VERSION:2.0
METHOD:PUBLISH
BEGIN:VEVENT
UID:ical-2027-01-01-2248
DTSTART:20270101T140000Z
DTSTAMP:20260423T202709Z
LOCATION:Staatsoperette Saal
SUMMARY:poesie der gegensätze
DESCRIPTION:
CREATED:20260423T202709Z
DTEND:20270101T225900Z
END:VEVENT
END:VCALENDAR
