BEGIN:VCALENDAR
PRODID:-//spiritec//spiritec media library//EN
VERSION:2.0
METHOD:PUBLISH
BEGIN:VEVENT
UID:ical-2027-01-31-2232
DTSTART:20270131T140000Z
DTSTAMP:20260423T141656Z
LOCATION:Staatsoperette Saal
SUMMARY:die lustige witwe
DESCRIPTION:
CREATED:20260423T141656Z
DTEND:20270131T161500Z
END:VEVENT
END:VCALENDAR
