BEGIN:VCALENDAR
PRODID:-//spiritec//spiritec media library//EN
VERSION:2.0
METHOD:PUBLISH
BEGIN:VEVENT
UID:ical-2027-01-30-2231
DTSTART:20270130T183000Z
DTSTAMP:20260423T141703Z
LOCATION:Staatsoperette Saal
SUMMARY:die lustige witwe
DESCRIPTION:
CREATED:20260423T141703Z
DTEND:20270130T204500Z
END:VEVENT
END:VCALENDAR
