BEGIN:VCALENDAR
PRODID:-//spiritec//spiritec media library//EN
VERSION:2.0
METHOD:PUBLISH
BEGIN:VEVENT
UID:ical-2026-12-30-2228
DTSTART:20261230T183000Z
DTSTAMP:20260423T141702Z
LOCATION:Staatsoperette Saal
SUMMARY:die lustige witwe
DESCRIPTION:
CREATED:20260423T141702Z
DTEND:20261230T204500Z
END:VEVENT
END:VCALENDAR
