BEGIN:VCALENDAR
PRODID:-//spiritec//spiritec media library//EN
VERSION:2.0
METHOD:PUBLISH
BEGIN:VEVENT
UID:ical-2026-11-15-2227
DTSTART:20261115T140000Z
DTSTAMP:20260423T141912Z
LOCATION:Staatsoperette Saal
SUMMARY:die lustige witwe
DESCRIPTION:
CREATED:20260423T141912Z
DTEND:20261115T161500Z
END:VEVENT
END:VCALENDAR
