BEGIN:VCALENDAR
PRODID:-//spiritec//spiritec media library//EN
VERSION:2.0
METHOD:PUBLISH
BEGIN:VEVENT
UID:ical-2026-10-04-2224
DTSTART:20261004T130000Z
DTSTAMP:20260423T141811Z
LOCATION:Staatsoperette Saal
SUMMARY:die lustige witwe
DESCRIPTION:
CREATED:20260423T141811Z
DTEND:20261004T151500Z
END:VEVENT
END:VCALENDAR
