BEGIN:VCALENDAR
PRODID:-//spiritec//spiritec media library//EN
VERSION:2.0
METHOD:PUBLISH
BEGIN:VEVENT
UID:ical-2026-10-03-2223
DTSTART:20261003T173000Z
DTSTAMP:20260423T141810Z
LOCATION:Staatsoperette Saal
SUMMARY:die lustige witwe
DESCRIPTION:
CREATED:20260423T141810Z
DTEND:20261003T194500Z
END:VEVENT
END:VCALENDAR
